BEGIN:VCALENDAR
VERSION:2.0
PRODID:-//Blokzijl - Midden in Weerribben Wieden - ECPv6.15.20//NONSGML v1.0//EN
CALSCALE:GREGORIAN
METHOD:PUBLISH
X-WR-CALNAME:Blokzijl - Midden in Weerribben Wieden
X-ORIGINAL-URL:https://blokzijl.nl
X-WR-CALDESC:Evenementen voor Blokzijl - Midden in Weerribben Wieden
REFRESH-INTERVAL;VALUE=DURATION:PT1H
X-Robots-Tag:noindex
X-PUBLISHED-TTL:PT1H
BEGIN:VTIMEZONE
TZID:Europe/Amsterdam
BEGIN:DAYLIGHT
TZOFFSETFROM:+0100
TZOFFSETTO:+0200
TZNAME:CEST
DTSTART:20250330T010000
END:DAYLIGHT
BEGIN:STANDARD
TZOFFSETFROM:+0200
TZOFFSETTO:+0100
TZNAME:CET
DTSTART:20251026T010000
END:STANDARD
BEGIN:DAYLIGHT
TZOFFSETFROM:+0100
TZOFFSETTO:+0200
TZNAME:CEST
DTSTART:20260329T010000
END:DAYLIGHT
BEGIN:STANDARD
TZOFFSETFROM:+0200
TZOFFSETTO:+0100
TZNAME:CET
DTSTART:20261025T010000
END:STANDARD
BEGIN:DAYLIGHT
TZOFFSETFROM:+0100
TZOFFSETTO:+0200
TZNAME:CEST
DTSTART:20270328T010000
END:DAYLIGHT
BEGIN:STANDARD
TZOFFSETFROM:+0200
TZOFFSETTO:+0100
TZNAME:CET
DTSTART:20271031T010000
END:STANDARD
END:VTIMEZONE
BEGIN:VEVENT
DTSTART;TZID=Europe/Amsterdam:20260422T200000
DTEND;TZID=Europe/Amsterdam:20260422T220000
DTSTAMP:20260420T064620
CREATED:20260305T075422Z
LAST-MODIFIED:20260410T091024Z
UID:9264-1776888000-1776895200@blokzijl.nl
SUMMARY:ALVG Plaatselijk Belang
DESCRIPTION:Bekijk in volledig schermGa naar de PDF inhoud
URL:https://blokzijl.nl/evenement/alvg-plaatselijk-belang/
LOCATION:De Ploats\, Groenestraat 18\, Blokzijl\, Overijssel\, 8356DB\, Nederland
CATEGORIES:Evenement
ATTACH;FMTTYPE=image/jpeg:https://blokzijl.nl/wp-content/uploads/2023/11/buitenkant-ploats.jpg
ORGANIZER;CN="Plaatselijk Belang Blokzijl":MAILTO:werkgroepcommunicatie@blokzijl.nl
END:VEVENT
END:VCALENDAR