BEGIN:VCALENDAR
VERSION:2.0
PRODID:-//Blokzijl - Midden in Weerribben Wieden - ECPv6.15.20//NONSGML v1.0//EN
CALSCALE:GREGORIAN
METHOD:PUBLISH
X-WR-CALNAME:Blokzijl - Midden in Weerribben Wieden
X-ORIGINAL-URL:https://blokzijl.nl
X-WR-CALDESC:Evenementen voor Blokzijl - Midden in Weerribben Wieden
REFRESH-INTERVAL;VALUE=DURATION:PT1H
X-Robots-Tag:noindex
X-PUBLISHED-TTL:PT1H
BEGIN:VTIMEZONE
TZID:Europe/Amsterdam
BEGIN:DAYLIGHT
TZOFFSETFROM:+0100
TZOFFSETTO:+0200
TZNAME:CEST
DTSTART:20250330T010000
END:DAYLIGHT
BEGIN:STANDARD
TZOFFSETFROM:+0200
TZOFFSETTO:+0100
TZNAME:CET
DTSTART:20251026T010000
END:STANDARD
BEGIN:DAYLIGHT
TZOFFSETFROM:+0100
TZOFFSETTO:+0200
TZNAME:CEST
DTSTART:20260329T010000
END:DAYLIGHT
BEGIN:STANDARD
TZOFFSETFROM:+0200
TZOFFSETTO:+0100
TZNAME:CET
DTSTART:20261025T010000
END:STANDARD
BEGIN:DAYLIGHT
TZOFFSETFROM:+0100
TZOFFSETTO:+0200
TZNAME:CEST
DTSTART:20270328T010000
END:DAYLIGHT
BEGIN:STANDARD
TZOFFSETFROM:+0200
TZOFFSETTO:+0100
TZNAME:CET
DTSTART:20271031T010000
END:STANDARD
END:VTIMEZONE
BEGIN:VEVENT
DTSTART;TZID=Europe/Amsterdam:20260501T200000
DTEND;TZID=Europe/Amsterdam:20260501T223000
DTSTAMP:20260420T150931
CREATED:20260420T064938Z
LAST-MODIFIED:20260420T064958Z
UID:9357-1777665600-1777674600@blokzijl.nl
SUMMARY:Film in ’t Lam Nuremberg
DESCRIPTION:Op vrijdag 1 mei 2026 wordt er om 20:15 uur in ’t Lam de film Nuremberg vertoond. \n\n\n\n\n\n\n\n\nIn de nasleep van de Tweede Wereldoorlog komen morele afrekening en rechtspraak samen. In deze context plaatst Nuremberg zich: een film die zich niet richt op het tribunaal zelf\, maar op de aanloop ernaartoe\, wanneer moet worden vastgesteld wie terecht kan staan voor de misdaden van het Derde Rijk. Een indringend verhaal over macht\, verantwoordelijkheid en psychologische controle\, met Russell Crowe en Rami Malek. De toegang is gratis.
URL:https://blokzijl.nl/evenement/film-in-t-lam-de-film-nuremberg/
CATEGORIES:Evenement
ATTACH;FMTTYPE=image/jpeg:https://blokzijl.nl/wp-content/uploads/2026/04/image002.jpg
END:VEVENT
END:VCALENDAR