BEGIN:VCALENDAR
VERSION:2.0
PRODID:-//Blokzijl - Midden in Weerribben Wieden - ECPv6.15.20//NONSGML v1.0//EN
CALSCALE:GREGORIAN
METHOD:PUBLISH
X-WR-CALNAME:Blokzijl - Midden in Weerribben Wieden
X-ORIGINAL-URL:https://blokzijl.nl
X-WR-CALDESC:Evenementen voor Blokzijl - Midden in Weerribben Wieden
REFRESH-INTERVAL;VALUE=DURATION:PT1H
X-Robots-Tag:noindex
X-PUBLISHED-TTL:PT1H
BEGIN:VTIMEZONE
TZID:Europe/Amsterdam
BEGIN:DAYLIGHT
TZOFFSETFROM:+0100
TZOFFSETTO:+0200
TZNAME:CEST
DTSTART:20240331T010000
END:DAYLIGHT
BEGIN:STANDARD
TZOFFSETFROM:+0200
TZOFFSETTO:+0100
TZNAME:CET
DTSTART:20241027T010000
END:STANDARD
BEGIN:DAYLIGHT
TZOFFSETFROM:+0100
TZOFFSETTO:+0200
TZNAME:CEST
DTSTART:20250330T010000
END:DAYLIGHT
BEGIN:STANDARD
TZOFFSETFROM:+0200
TZOFFSETTO:+0100
TZNAME:CET
DTSTART:20251026T010000
END:STANDARD
BEGIN:DAYLIGHT
TZOFFSETFROM:+0100
TZOFFSETTO:+0200
TZNAME:CEST
DTSTART:20260329T010000
END:DAYLIGHT
BEGIN:STANDARD
TZOFFSETFROM:+0200
TZOFFSETTO:+0100
TZNAME:CET
DTSTART:20261025T010000
END:STANDARD
END:VTIMEZONE
BEGIN:VEVENT
DTSTART;TZID=Europe/Amsterdam:20251219T193000
DTEND;TZID=Europe/Amsterdam:20251219T213000
DTSTAMP:20260422T103453
CREATED:20251007T063237Z
LAST-MODIFIED:20251007T063237Z
UID:9059-1766172600-1766179800@blokzijl.nl
SUMMARY:Kerst Sing in Grote Kerk
DESCRIPTION:De sfeervolle Kerst Sing in Blokzijl vindt dit jaar plaats op vrijdag 19 december om 19.30 uur\, diverse koren en solisten uit Blokzijl zijn vertegenwoordigd.
URL:https://blokzijl.nl/evenement/kerst-sing-in-grote-kerk/
LOCATION:Grote Kerk Blokzijl\, Brouwerstraat 11\, Blokzijl\, Overijssel\, 8356 DV\, Nederland
CATEGORIES:Evenement
ATTACH;FMTTYPE=image/jpeg:https://blokzijl.nl/wp-content/uploads/2023/11/Kerst-Sing-In-2022-Bloxy.jpg
END:VEVENT
END:VCALENDAR