BEGIN:VCALENDAR
VERSION:2.0
PRODID:-//Blokzijl - Midden in Weerribben Wieden - ECPv6.15.20//NONSGML v1.0//EN
CALSCALE:GREGORIAN
METHOD:PUBLISH
X-WR-CALNAME:Blokzijl - Midden in Weerribben Wieden
X-ORIGINAL-URL:https://blokzijl.nl
X-WR-CALDESC:Evenementen voor Blokzijl - Midden in Weerribben Wieden
REFRESH-INTERVAL;VALUE=DURATION:PT1H
X-Robots-Tag:noindex
X-PUBLISHED-TTL:PT1H
BEGIN:VTIMEZONE
TZID:Europe/Amsterdam
BEGIN:DAYLIGHT
TZOFFSETFROM:+0100
TZOFFSETTO:+0200
TZNAME:CEST
DTSTART:20250330T010000
END:DAYLIGHT
BEGIN:STANDARD
TZOFFSETFROM:+0200
TZOFFSETTO:+0100
TZNAME:CET
DTSTART:20251026T010000
END:STANDARD
BEGIN:DAYLIGHT
TZOFFSETFROM:+0100
TZOFFSETTO:+0200
TZNAME:CEST
DTSTART:20260329T010000
END:DAYLIGHT
BEGIN:STANDARD
TZOFFSETFROM:+0200
TZOFFSETTO:+0100
TZNAME:CET
DTSTART:20261025T010000
END:STANDARD
BEGIN:DAYLIGHT
TZOFFSETFROM:+0100
TZOFFSETTO:+0200
TZNAME:CEST
DTSTART:20270328T010000
END:DAYLIGHT
BEGIN:STANDARD
TZOFFSETFROM:+0200
TZOFFSETTO:+0100
TZNAME:CET
DTSTART:20271031T010000
END:STANDARD
END:VTIMEZONE
BEGIN:VEVENT
DTSTART;TZID=Europe/Amsterdam:20260504T190000
DTEND;TZID=Europe/Amsterdam:20260504T210000
DTSTAMP:20260420T153705
CREATED:20260420T065304Z
LAST-MODIFIED:20260420T065304Z
UID:9361-1777921200-1777928400@blokzijl.nl
SUMMARY:Programma 4 mei
DESCRIPTION:Op maandag 4 mei 2026 is er een herdenkingsbijeenkomst in ’t Lam. Het programma begint om 19:00 uur en duurt tot ca 19:40. Aan deze bijeenkomst werken scholieren van de basisscholen mee en er wordt een korte toespraak gehouden door Marco Otto\, beroeps militair met als thema “de geschiedenis leren begrijpen” \n\n\n\n\n\n\n\n\n\nDe muziek bij de herdenkingsbijeenkomst wordt verzorgd door Blokzijl Vocaal onder leiding van Nynke Poelsma. Janny Bennen-Stakelbeek bespeelt het orgel. \n\n\n\n\n\n\n\n\n\nVanaf 19:40 begint vanaf het Oude Verlaat de stille tocht naar de begraafplaats waar bloemen worden gelegd bij de gedenksteen op de joodse begraafplaats en bij de in Blokzijl begraven vliegeniers. De deelnemers van de herdenkingsbijeenkomst sluiten zich dan bij de aanwezigen aan. Na afloop is er een samenzijn in De Ploats.
URL:https://blokzijl.nl/evenement/programma-4-mei/
LOCATION:Doopsgezinde Kerk Blokzijl\, Breestraat 2\, Blokzijl\, Overijssel\, 8356DL
CATEGORIES:Evenement
ATTACH;FMTTYPE=image/jpeg:https://blokzijl.nl/wp-content/uploads/2022/03/Breestraat_2_het_Lam_Blokzijl-scaled-e1649160338813.jpg
END:VEVENT
END:VCALENDAR